BEGIN:VCALENDAR
VERSION:2.0
PRODID:-//Mount Sima - ECPv6.15.20//NONSGML v1.0//EN
CALSCALE:GREGORIAN
METHOD:PUBLISH
X-WR-CALNAME:Mount Sima
X-ORIGINAL-URL:https://mountsima.com
X-WR-CALDESC:Events for Mount Sima
REFRESH-INTERVAL;VALUE=DURATION:PT1H
X-Robots-Tag:noindex
X-PUBLISHED-TTL:PT1H
BEGIN:VTIMEZONE
TZID:America/Whitehorse
BEGIN:STANDARD
TZOFFSETFROM:-0700
TZOFFSETTO:-0700
TZNAME:MST
DTSTART:20240101T000000
END:STANDARD
END:VTIMEZONE
BEGIN:VEVENT
DTSTART;TZID=America/Whitehorse:20250717T180000
DTEND;TZID=America/Whitehorse:20250717T200000
DTSTAMP:20260419T123427
CREATED:20250708T204128Z
LAST-MODIFIED:20250708T204128Z
UID:6312-1752775200-1752782400@mountsima.com
SUMMARY:Alpine Escape Glamping Open House
DESCRIPTION:Curious about glamping? Join us for our Alpine Escape Glamping Open House. This is your exclusive chance to explore our luxurious wall tents and get a sneak peek at the brand-new geodome\, set to open mid-month! We’ll have hot dogs\, Yukon Brewing beer\, and drinks on hand as you explore (while supplies last). \nPut your name in our door prize draw for a chance to WIN a 2-night stay at the Aurora geodome! \n Thursday\, July 17th 6-8pm Mt. Sima Free \nCheck out what we offer https://mountsima.com/alpine-escape/ \nPlease note that these stunning sites have hike-in access\, only a 15-minute hike up the gentle slope on Pokey\, along our hiking trail\, offering a truly immersive experience in nature. For those with limited mobility\, there will be a shuttle available.
URL:https://mountsima.com/event/alpine-escape-glamping-open-house/
LOCATION:Mt. Sima\, 770 Mount Sima Road\, Whitehorse\, Yukon\, Y1A 0A8\, Canada
ATTACH;FMTTYPE=image/jpeg:https://mountsima.com/wp-content/uploads/2025/07/Alpine-Escape-OPEN-HOUSE-scaled.jpg
ORGANIZER;CN="Mount Sima":MAILTO:info@mountsima.com
END:VEVENT
END:VCALENDAR